BEGIN:VCALENDAR
VERSION:2.0
PRODID:-//Radius Channels - ECPv6.14.2//NONSGML v1.0//EN
CALSCALE:GREGORIAN
METHOD:PUBLISH
X-WR-CALNAME:Radius Channels
X-ORIGINAL-URL:https://www.radiuschannels.com
X-WR-CALDESC:Events for Radius Channels
REFRESH-INTERVAL;VALUE=DURATION:PT1H
X-Robots-Tag:noindex
X-PUBLISHED-TTL:PT1H
BEGIN:VTIMEZONE
TZID:UTC
BEGIN:STANDARD
TZOFFSETFROM:+0000
TZOFFSETTO:+0000
TZNAME:UTC
DTSTART:20240101T000000
END:STANDARD
END:VTIMEZONE
BEGIN:VEVENT
DTSTART;TZID=UTC:20240925T150000
DTEND;TZID=UTC:20240925T160000
DTSTAMP:20260420T114813
CREATED:20240916T214346Z
LAST-MODIFIED:20240916T214346Z
UID:1837-1727276400-1727280000@www.radiuschannels.com
SUMMARY:Illumio "Illuminate" Monthly Partner SE Webcast
DESCRIPTION:Join Illumio for their September partner SE session focused on “Product & Analyst Updates”; here is the agenda for this one-hour webcast: \n\nDemo of new AI features\, including Illumio Virtual Advisor (IVA) and AI labeling\nPreview of our new Insights feature and how it can benefit your end customers\nReview of Illumio Core 24.2 release and new Unified Map and Policy\nHighlights from The Forrester Wave™: Microsegmentation Solutions\, Q3 2024 report\n\nRegister today: https://lp.illumio.com/Illuminate_Monthly_Webinar
URL:https://www.radiuschannels.com/event/illumio-illuminate-monthly-partner-se-webcast-2/
ATTACH;FMTTYPE=image/jpeg:https://www.radiuschannels.com/wp-content/uploads/2024/09/Illuminate_Sept-25-2024.jpg
END:VEVENT
END:VCALENDAR