BEGIN:VCALENDAR
VERSION:2.0
PRODID:-//Radius Channels - ECPv6.14.2//NONSGML v1.0//EN
CALSCALE:GREGORIAN
METHOD:PUBLISH
X-ORIGINAL-URL:https://www.radiuschannels.com
X-WR-CALDESC:Events for Radius Channels
REFRESH-INTERVAL;VALUE=DURATION:PT1H
X-Robots-Tag:noindex
X-PUBLISHED-TTL:PT1H
BEGIN:VTIMEZONE
TZID:America/New_York
BEGIN:DAYLIGHT
TZOFFSETFROM:-0500
TZOFFSETTO:-0400
TZNAME:EDT
DTSTART:20250309T070000
END:DAYLIGHT
BEGIN:STANDARD
TZOFFSETFROM:-0400
TZOFFSETTO:-0500
TZNAME:EST
DTSTART:20251102T060000
END:STANDARD
END:VTIMEZONE
BEGIN:VEVENT
DTSTART;TZID=America/New_York:20250312T110000
DTEND;TZID=America/New_York:20250312T123000
DTSTAMP:20260420T180403
CREATED:20250221T022642Z
LAST-MODIFIED:20250221T022642Z
UID:2249-1741777200-1741782600@www.radiuschannels.com
SUMMARY:Illumio Virtual Partner Kick-Off Event
DESCRIPTION:Join Illumio’s Virtual Partner Kickoff on Wednesday\, March 12th at 8AM PT/11AM ET to gain crucial insights and updates for the year ahead\, ensuring you’re well-prepared to maximize your partnership and rapidly grow your business with Illumio in 2025. You’ll hear about the latest strategies\, initiatives\, and innovations from their leadership team\, including CEO\, Andrew Rubin; CRO\, John Lens; and\, SVP of Global Partner Sales & Alliances\, Todd Palmer. \n\nHere is the agenda for this 1.5 hour live webinar: \n\n\nMarket Momentum\nGo-to-Market Update\nIllumio Product & Integration Update\nProgram\, Incentives\, Tools & Resources\nAnnual Partner Awards\n\nREGISTER TODAY: https://lp.illumio.com/Partner-Kickoff-Registration
URL:https://www.radiuschannels.com/event/illumio-virtual-partner-kick-off-event/
ATTACH;FMTTYPE=image/jpeg:https://www.radiuschannels.com/wp-content/uploads/2025/02/lllumio-PKO_March-12_2025-2.jpg
END:VEVENT
END:VCALENDAR