BEGIN:VCALENDAR
VERSION:2.0
PRODID:-//Radius Channels - ECPv6.14.2//NONSGML v1.0//EN
CALSCALE:GREGORIAN
METHOD:PUBLISH
X-WR-CALNAME:Radius Channels
X-ORIGINAL-URL:https://www.radiuschannels.com
X-WR-CALDESC:Events for Radius Channels
REFRESH-INTERVAL;VALUE=DURATION:PT1H
X-Robots-Tag:noindex
X-PUBLISHED-TTL:PT1H
BEGIN:VTIMEZONE
TZID:America/New_York
BEGIN:DAYLIGHT
TZOFFSETFROM:-0500
TZOFFSETTO:-0400
TZNAME:EDT
DTSTART:20240310T070000
END:DAYLIGHT
BEGIN:STANDARD
TZOFFSETFROM:-0400
TZOFFSETTO:-0500
TZNAME:EST
DTSTART:20241103T060000
END:STANDARD
END:VTIMEZONE
BEGIN:VEVENT
DTSTART;TZID=America/New_York:20240627T150000
DTEND;TZID=America/New_York:20240627T160000
DTSTAMP:20260420T091408
CREATED:20240627T022047Z
LAST-MODIFIED:20240627T022047Z
UID:1632-1719500400-1719504000@www.radiuschannels.com
SUMMARY:Illumio Monthly Partner Webcast: Visibility & Segmentation for Containers
DESCRIPTION:“Illuminate Monthly” is a webinar series designed for partner sales engineers to provide valuable education on Illumio’s technology and the value of Zero Trust Segmentation for your customers and prospects. \n\nJoin us for our June session focused on how to leverage Illumio’s platform to secure your containerized applications.\nHere is the agenda for this one hour live webinar: \n\n\n\nUnderstand the status quo for container visibility and security\, and why most organizations are falling short\nOverview of Illumio’s unique functionality allowing your customers complete visibility and the ability to secure containerized applications\nDemo of Illumio’s container functionality\n\nRegister today!
URL:https://www.radiuschannels.com/event/illumio-monthly-partner-webcast-visibility-segmentation-for-containers/
ATTACH;FMTTYPE=image/jpeg:https://www.radiuschannels.com/wp-content/uploads/2024/06/Illuminate-Monthly-Wecast-Series_June-27th.jpg
END:VEVENT
END:VCALENDAR